BEGIN:VCALENDAR
VERSION:2.0
PRODID:-//Ling Shu MTC - ECPv6.15.20//NONSGML v1.0//EN
CALSCALE:GREGORIAN
METHOD:PUBLISH
X-WR-CALNAME:Ling Shu MTC
X-ORIGINAL-URL:https://lingshu-mtc.ch
X-WR-CALDESC:Évènements pour Ling Shu MTC
REFRESH-INTERVAL;VALUE=DURATION:PT1H
X-Robots-Tag:noindex
X-PUBLISHED-TTL:PT1H
BEGIN:VTIMEZONE
TZID:Europe/Zurich
BEGIN:DAYLIGHT
TZOFFSETFROM:+0100
TZOFFSETTO:+0200
TZNAME:CEST
DTSTART:20250330T010000
END:DAYLIGHT
BEGIN:STANDARD
TZOFFSETFROM:+0200
TZOFFSETTO:+0100
TZNAME:CET
DTSTART:20251026T010000
END:STANDARD
BEGIN:DAYLIGHT
TZOFFSETFROM:+0100
TZOFFSETTO:+0200
TZNAME:CEST
DTSTART:20260329T010000
END:DAYLIGHT
BEGIN:STANDARD
TZOFFSETFROM:+0200
TZOFFSETTO:+0100
TZNAME:CET
DTSTART:20261025T010000
END:STANDARD
BEGIN:DAYLIGHT
TZOFFSETFROM:+0100
TZOFFSETTO:+0200
TZNAME:CEST
DTSTART:20270328T010000
END:DAYLIGHT
BEGIN:STANDARD
TZOFFSETFROM:+0200
TZOFFSETTO:+0100
TZNAME:CET
DTSTART:20271031T010000
END:STANDARD
END:VTIMEZONE
BEGIN:VEVENT
DTSTART;TZID=Europe/Zurich:20261114T083000
DTEND;TZID=Europe/Zurich:20261115T173000
DTSTAMP:20260425T170717
CREATED:20260331T090846Z
LAST-MODIFIED:20260409T085508Z
UID:10001893-1794645000-1794763800@lingshu-mtc.ch
SUMMARY:Formation M3 (60 heures) - Santé et Éthique (14 Novembre 2026)
DESCRIPTION:Ce module aborde les principes fondamentaux de la santé ainsi que les enjeux éthiques liés à la pratique thérapeutique\, en mettant l’accent sur la responsabilité\, le respect du patient et le cadre professionnel. \nIl vous permet de développer une posture éthique solide et d’intégrer des réflexes essentiels pour une pratique consciente\, sécurisée et respectueuse. \nUne formation pratique essentielle pour enrichir vos compétences et vous démarquer dans votre pratique. \nCette formation à lieu en présentiel et en Visio. Le prix de 1’050 CHF est le prix de la formation au module complète. En cas de demande concernant cette date\, merci de nous contacter directement au mail suivant : Info@lingshu-mtc.ch \nReconnu par :
URL:https://lingshu-mtc.ch/atelier-cours/formation-m3-sante-et-ethique-14-novembre-2026/
LOCATION:Institut Ling Shu École de Médecine Traditionelle Chinoise\, Passage des Lions 6 - Rue du Rhône 8\, Genève\, 1204\, Switzerland
CATEGORIES:Formations continues
ATTACH;FMTTYPE=image/jpeg:https://lingshu-mtc.ch/wp-content/uploads/2025/07/apm_lingshu.jpg
END:VEVENT
END:VCALENDAR