BEGIN:VCALENDAR
VERSION:2.0
PRODID:-//Ling Shu MTC - ECPv6.15.20//NONSGML v1.0//EN
CALSCALE:GREGORIAN
METHOD:PUBLISH
X-WR-CALNAME:Ling Shu MTC
X-ORIGINAL-URL:https://lingshu-mtc.ch
X-WR-CALDESC:Évènements pour Ling Shu MTC
REFRESH-INTERVAL;VALUE=DURATION:PT1H
X-Robots-Tag:noindex
X-PUBLISHED-TTL:PT1H
BEGIN:VTIMEZONE
TZID:Europe/Zurich
BEGIN:DAYLIGHT
TZOFFSETFROM:+0100
TZOFFSETTO:+0200
TZNAME:CEST
DTSTART:20250330T010000
END:DAYLIGHT
BEGIN:STANDARD
TZOFFSETFROM:+0200
TZOFFSETTO:+0100
TZNAME:CET
DTSTART:20251026T010000
END:STANDARD
BEGIN:DAYLIGHT
TZOFFSETFROM:+0100
TZOFFSETTO:+0200
TZNAME:CEST
DTSTART:20260329T010000
END:DAYLIGHT
BEGIN:STANDARD
TZOFFSETFROM:+0200
TZOFFSETTO:+0100
TZNAME:CET
DTSTART:20261025T010000
END:STANDARD
BEGIN:DAYLIGHT
TZOFFSETFROM:+0100
TZOFFSETTO:+0200
TZNAME:CEST
DTSTART:20270328T010000
END:DAYLIGHT
BEGIN:STANDARD
TZOFFSETFROM:+0200
TZOFFSETTO:+0100
TZNAME:CET
DTSTART:20271031T010000
END:STANDARD
END:VTIMEZONE
BEGIN:VEVENT
DTSTART;TZID=Europe/Zurich:20260502T083000
DTEND;TZID=Europe/Zurich:20260503T173000
DTSTAMP:20260423T204353
CREATED:20260331T075759Z
LAST-MODIFIED:20260413T065430Z
UID:10001875-1777710600-1777829400@lingshu-mtc.ch
SUMMARY:Formation M4 (104 heures) - Travail du thérapeute (2 Mai 2026)
DESCRIPTION:Découvrez les éléments essentiels qui font d’un thérapeute un praticien compétent\, efficace et accompli. \nDéveloppez une approche précise\, rapide et ciblée afin d’optimiser la prise en charge de nombreuses affections. \nUne formation pratique essentielle pour enrichir vos compétences et vous démarquer dans votre pratique thérapeutique. \nCette formation à lieu en présentiel et en Visio. Le prix de 3’000 CHF est le prix de la formation au module complète. En cas de demande concernant cette date\, merci de nous contacter directement au mail suivant : Info@lingshu-mtc.ch \nReconnu par :
URL:https://lingshu-mtc.ch/atelier-cours/formation-m4-travail-du-therapeute-2-mai-2026/
LOCATION:Institut Ling Shu École de Médecine Traditionelle Chinoise\, Passage des Lions 6 - Rue du Rhône 8\, Genève\, 1204\, Switzerland
CATEGORIES:Formations continues
ATTACH;FMTTYPE=image/jpeg:https://lingshu-mtc.ch/wp-content/uploads/2023/10/programmes.jpg
END:VEVENT
END:VCALENDAR