BEGIN:VCALENDAR
VERSION:2.0
PRODID:-//Ling Shu MTC - ECPv6.15.20//NONSGML v1.0//EN
CALSCALE:GREGORIAN
METHOD:PUBLISH
X-WR-CALNAME:Ling Shu MTC
X-ORIGINAL-URL:https://lingshu-mtc.ch
X-WR-CALDESC:Évènements pour Ling Shu MTC
REFRESH-INTERVAL;VALUE=DURATION:PT1H
X-Robots-Tag:noindex
X-PUBLISHED-TTL:PT1H
BEGIN:VTIMEZONE
TZID:Europe/Zurich
BEGIN:DAYLIGHT
TZOFFSETFROM:+0100
TZOFFSETTO:+0200
TZNAME:CEST
DTSTART:20250330T010000
END:DAYLIGHT
BEGIN:STANDARD
TZOFFSETFROM:+0200
TZOFFSETTO:+0100
TZNAME:CET
DTSTART:20251026T010000
END:STANDARD
BEGIN:DAYLIGHT
TZOFFSETFROM:+0100
TZOFFSETTO:+0200
TZNAME:CEST
DTSTART:20260329T010000
END:DAYLIGHT
BEGIN:STANDARD
TZOFFSETFROM:+0200
TZOFFSETTO:+0100
TZNAME:CET
DTSTART:20261025T010000
END:STANDARD
BEGIN:DAYLIGHT
TZOFFSETFROM:+0100
TZOFFSETTO:+0200
TZNAME:CEST
DTSTART:20270328T010000
END:DAYLIGHT
BEGIN:STANDARD
TZOFFSETFROM:+0200
TZOFFSETTO:+0100
TZNAME:CET
DTSTART:20271031T010000
END:STANDARD
END:VTIMEZONE
BEGIN:VEVENT
DTSTART;TZID=Europe/Zurich:20260502T083000
DTEND;TZID=Europe/Zurich:20260503T173000
DTSTAMP:20260423T203030
CREATED:20260331T075759Z
LAST-MODIFIED:20260413T065430Z
UID:10001875-1777710600-1777829400@lingshu-mtc.ch
SUMMARY:Formation M4 (104 heures) - Travail du thérapeute (2 Mai 2026)
DESCRIPTION:Découvrez les éléments essentiels qui font d’un thérapeute un praticien compétent\, efficace et accompli. \nDéveloppez une approche précise\, rapide et ciblée afin d’optimiser la prise en charge de nombreuses affections. \nUne formation pratique essentielle pour enrichir vos compétences et vous démarquer dans votre pratique thérapeutique. \nCette formation à lieu en présentiel et en Visio. Le prix de 3’000 CHF est le prix de la formation au module complète. En cas de demande concernant cette date\, merci de nous contacter directement au mail suivant : Info@lingshu-mtc.ch \nReconnu par :
URL:https://lingshu-mtc.ch/atelier-cours/formation-m4-travail-du-therapeute-2-mai-2026/
LOCATION:Institut Ling Shu École de Médecine Traditionelle Chinoise\, Passage des Lions 6 - Rue du Rhône 8\, Genève\, 1204\, Switzerland
CATEGORIES:Formations continues
ATTACH;FMTTYPE=image/jpeg:https://lingshu-mtc.ch/wp-content/uploads/2023/10/programmes.jpg
END:VEVENT
BEGIN:VEVENT
DTSTART;TZID=Europe/Zurich:20260509T083000
DTEND;TZID=Europe/Zurich:20260510T173000
DTSTAMP:20260423T203030
CREATED:20251111T074628Z
LAST-MODIFIED:20251111T082258Z
UID:10001872-1778315400-1778434200@lingshu-mtc.ch
SUMMARY:Pose de ventouse (9 Mai 2026)
DESCRIPTION:Plongez dans une technique ancestrale lors de cette masterclass dédiée à la pose de ventouses. Apprenez les gestes justes\, les indications clés et les bonnes pratiques pour une application efficace et sécurisée. \nOuverte à tous\, cette formation vous initie à une méthode naturelle pour libérer les tensions\, stimuler la circulation et rééquilibrer l’énergie. Une expérience alliant théorie vivante et pratique guidée\, pour enrichir vos savoirs ou explorer une nouvelle voie de soin. \nPraticienne en Médecine Traditionnelle Chinoise depuis plus de 11 ans\, Mary-Laure Segura exerce avec passion dans les domaines de l’acupuncture\, du Tuina et des ventouses.
URL:https://lingshu-mtc.ch/atelier-cours/pose-de-ventouse-9-mai/
LOCATION:Institut Ling Shu École de Médecine Traditionelle Chinoise\, Passage des Lions 6 - Rue du Rhône 8\, Genève\, 1204\, Switzerland
CATEGORIES:Formations continues,Ventouse
ATTACH;FMTTYPE=image/webp:https://lingshu-mtc.ch/wp-content/uploads/2025/06/Ventouse.webp
END:VEVENT
BEGIN:VEVENT
DTSTART;TZID=Europe/Zurich:20260513T190000
DTEND;TZID=Europe/Zurich:20260513T210000
DTSTAMP:20260423T203030
CREATED:20260331T080132Z
LAST-MODIFIED:20260413T065424Z
UID:10001876-1778698800-1778706000@lingshu-mtc.ch
SUMMARY:Formation M4 (104 heures) - Travail du thérapeute (13 Mai 2026)
DESCRIPTION:Découvrez les éléments essentiels qui font d’un thérapeute un praticien compétent\, efficace et accompli. \nDéveloppez une approche précise\, rapide et ciblée afin d’optimiser la prise en charge de nombreuses affections. \nUne formation pratique essentielle pour enrichir vos compétences et vous démarquer dans votre pratique thérapeutique. \nCette formation à lieu en Visio. Le prix de 3’000 CHF est le prix de la formation au module complète. En cas de demande concernant cette date\, merci de nous contacter directement au mail suivant : Info@lingshu-mtc.ch \nReconnu par :
URL:https://lingshu-mtc.ch/atelier-cours/formation-m4-travail-du-therapeute-13-mai-2026/
LOCATION:Institut Ling Shu École de Médecine Traditionelle Chinoise\, Passage des Lions 6 - Rue du Rhône 8\, Genève\, 1204\, Switzerland
CATEGORIES:Formations continues
ATTACH;FMTTYPE=image/jpeg:https://lingshu-mtc.ch/wp-content/uploads/2023/10/programmes.jpg
END:VEVENT
BEGIN:VEVENT
DTSTART;TZID=Europe/Zurich:20260530T083000
DTEND;TZID=Europe/Zurich:20260531T173000
DTSTAMP:20260423T203030
CREATED:20260331T080552Z
LAST-MODIFIED:20260413T065419Z
UID:10001877-1780129800-1780248600@lingshu-mtc.ch
SUMMARY:Formation M4 (104 heures) - Travail du thérapeute (30 Mai 2026)
DESCRIPTION:Découvrez les éléments essentiels qui font d’un thérapeute un praticien compétent\, efficace et accompli. \nDéveloppez une approche précise\, rapide et ciblée afin d’optimiser la prise en charge de nombreuses affections. \nUne formation pratique essentielle pour enrichir vos compétences et vous démarquer dans votre pratique thérapeutique. \nCette formation à lieu en présentiel et en Visio. Le prix de 3’000 CHF est le prix de la formation au module complète. En cas de demande concernant cette date\, merci de nous contacter directement au mail suivant : Info@lingshu-mtc.ch \nReconnu par :
URL:https://lingshu-mtc.ch/atelier-cours/formation-m4-travail-du-therapeute-30-mai-2026/
LOCATION:Institut Ling Shu École de Médecine Traditionelle Chinoise\, Passage des Lions 6 - Rue du Rhône 8\, Genève\, 1204\, Switzerland
CATEGORIES:Formations continues
ATTACH;FMTTYPE=image/jpeg:https://lingshu-mtc.ch/wp-content/uploads/2023/10/programmes.jpg
END:VEVENT
END:VCALENDAR